BEGIN:VCALENDAR
VERSION:2.0
PRODID:-//wp-events-plugin.com//7.2.3.1//EN
TZID:Europe/Berlin
X-WR-TIMEZONE:Europe/Berlin
BEGIN:VEVENT
UID:203@mfc-crawinkel.de
DTSTART;TZID=Europe/Berlin:20260130T190000
DTEND;TZID=Europe/Berlin:20260130T210000
DTSTAMP:20260108T191001Z
URL:https://mfc-crawinkel.de/veranstaltung/huettentreff-11/
SUMMARY:Hüttentreff
DESCRIPTION:
CATEGORIES:intern
LOCATION:Vereinsraum Crawinkel\, Erfurter Weg 2a\, Ohrdruf OT Crawinkel\, 9
 9330\, Deutschland
X-APPLE-STRUCTURED-LOCATION;VALUE=URI;X-ADDRESS=Erfurter Weg 2a\, Ohrdruf O
 T Crawinkel\, 99330\, Deutschland;X-APPLE-RADIUS=100;X-TITLE=Vereinsraum C
 rawinkel:geo:0,0
END:VEVENT
BEGIN:VTIMEZONE
TZID:Europe/Berlin
X-LIC-LOCATION:Europe/Berlin
BEGIN:STANDARD
DTSTART:20251026T020000
TZOFFSETFROM:+0200
TZOFFSETTO:+0100
TZNAME:CET
END:STANDARD
END:VTIMEZONE
END:VCALENDAR